
BEGIN:VCALENDAR
VERSION:2.0
PRODID:-//Filipino American National Historical Society Delano Chapter - ECPv6.15.20//NONSGML v1.0//EN
CALSCALE:GREGORIAN
METHOD:PUBLISH
X-ORIGINAL-URL:https://fanhsdelano.org
X-WR-CALDESC:Events for Filipino American National Historical Society Delano Chapter
REFRESH-INTERVAL;VALUE=DURATION:PT1H
X-Robots-Tag:noindex
X-PUBLISHED-TTL:PT1H
BEGIN:VTIMEZONE
TZID:UTC
BEGIN:STANDARD
TZOFFSETFROM:+0000
TZOFFSETTO:+0000
TZNAME:UTC
DTSTART:20230101T000000
END:STANDARD
END:VTIMEZONE
BEGIN:VEVENT
DTSTART;TZID=UTC:20250521T190000
DTEND;TZID=UTC:20250521T200000
DTSTAMP:20260419T125416
CREATED:20250422T233637Z
LAST-MODIFIED:20250422T233638Z
UID:10000295-1747854000-1747857600@fanhsdelano.org
SUMMARY:FANHS-Delano Monthly Zoom Meeting
DESCRIPTION:
URL:https://fanhsdelano.org/event/fanhs-delano-monthly-zoom-meeting-2-2-2-2/2025-05-21/
LOCATION:Via Zoom\, CA\, United States
CATEGORIES:General
ATTACH;FMTTYPE=image/gif:https://fanhsdelano.org/wp-content/uploads/2023/12/filipino-logo-1-e1708977043304.gif
ORGANIZER;CN="FANHS-Delano%2C Ch 33":MAILTO:ebsrcch@gmail.com
END:VEVENT
BEGIN:VEVENT
DTSTART;TZID=UTC:20250326T190000
DTEND;TZID=UTC:20250326T200000
DTSTAMP:20260419T125416
CREATED:20250317T214951Z
LAST-MODIFIED:20250317T214952Z
UID:10000271-1743015600-1743019200@fanhsdelano.org
SUMMARY:FANHS-Delano Monthly Zoom Meeting
DESCRIPTION:
URL:https://fanhsdelano.org/event/fanhs-delano-monthly-zoom-meeting-2-2-2/
LOCATION:Via Zoom\, CA\, United States
CATEGORIES:General
ATTACH;FMTTYPE=image/gif:https://fanhsdelano.org/wp-content/uploads/2023/12/filipino-logo-1-e1708977043304.gif
ORGANIZER;CN="FANHS-Delano%2C Ch 33":MAILTO:ebsrcch@gmail.com
END:VEVENT
BEGIN:VEVENT
DTSTART;TZID=UTC:20250219T190000
DTEND;TZID=UTC:20250219T200000
DTSTAMP:20260419T125416
CREATED:20250115T164111Z
LAST-MODIFIED:20250115T164328Z
UID:10000270-1739991600-1739995200@fanhsdelano.org
SUMMARY:FANHS-Delano Monthly Zoom Meeting
DESCRIPTION:
URL:https://fanhsdelano.org/event/fanhs-delano-monthly-zoom-meeting-2-2/2025-02-19/
LOCATION:Via Zoom\, CA\, United States
CATEGORIES:General
ATTACH;FMTTYPE=image/gif:https://fanhsdelano.org/wp-content/uploads/2023/12/filipino-logo-1-e1708977043304.gif
ORGANIZER;CN="FANHS-Delano%2C Ch 33":MAILTO:ebsrcch@gmail.com
END:VEVENT
BEGIN:VEVENT
DTSTART;TZID=UTC:20250115T190000
DTEND;TZID=UTC:20250115T200000
DTSTAMP:20260419T125416
CREATED:20250115T164111Z
LAST-MODIFIED:20250115T164328Z
UID:10000096-1736967600-1736971200@fanhsdelano.org
SUMMARY:FANHS-Delano Monthly Zoom Meeting
DESCRIPTION:
URL:https://fanhsdelano.org/event/fanhs-delano-monthly-zoom-meeting-2-2/2025-01-15/
LOCATION:Via Zoom\, CA\, United States
CATEGORIES:General
ATTACH;FMTTYPE=image/gif:https://fanhsdelano.org/wp-content/uploads/2023/12/filipino-logo-1-e1708977043304.gif
ORGANIZER;CN="FANHS-Delano%2C Ch 33":MAILTO:ebsrcch@gmail.com
END:VEVENT
BEGIN:VEVENT
DTSTART;TZID=UTC:20241120T190000
DTEND;TZID=UTC:20241120T200000
DTSTAMP:20260419T125416
CREATED:20240913T180033Z
LAST-MODIFIED:20240913T180034Z
UID:10000095-1732129200-1732132800@fanhsdelano.org
SUMMARY:FANHS-Delano Monthly Zoom Meeting
DESCRIPTION:
URL:https://fanhsdelano.org/event/fanhs-delano-monthly-zoom-meeting-2/2024-11-20/
LOCATION:Via Zoom\, CA\, United States
CATEGORIES:General
ATTACH;FMTTYPE=image/gif:https://fanhsdelano.org/wp-content/uploads/2023/12/filipino-logo-1-e1708977043304.gif
ORGANIZER;CN="FANHS-Delano%2C Ch 33":MAILTO:ebsrcch@gmail.com
END:VEVENT
BEGIN:VEVENT
DTSTART;TZID=UTC:20241016T190000
DTEND;TZID=UTC:20241016T200000
DTSTAMP:20260419T125416
CREATED:20240913T180033Z
LAST-MODIFIED:20240913T180034Z
UID:10000094-1729105200-1729108800@fanhsdelano.org
SUMMARY:FANHS-Delano Monthly Zoom Meeting
DESCRIPTION:
URL:https://fanhsdelano.org/event/fanhs-delano-monthly-zoom-meeting-2/2024-10-16/
LOCATION:Via Zoom\, CA\, United States
CATEGORIES:General
ATTACH;FMTTYPE=image/gif:https://fanhsdelano.org/wp-content/uploads/2023/12/filipino-logo-1-e1708977043304.gif
ORGANIZER;CN="FANHS-Delano%2C Ch 33":MAILTO:ebsrcch@gmail.com
END:VEVENT
BEGIN:VEVENT
DTSTART;TZID=UTC:20240918T190000
DTEND;TZID=UTC:20240918T200000
DTSTAMP:20260419T125416
CREATED:20240913T180033Z
LAST-MODIFIED:20240913T180034Z
UID:10000093-1726686000-1726689600@fanhsdelano.org
SUMMARY:FANHS-Delano Monthly Zoom Meeting
DESCRIPTION:
URL:https://fanhsdelano.org/event/fanhs-delano-monthly-zoom-meeting-2/2024-09-18/
LOCATION:Via Zoom\, CA\, United States
CATEGORIES:General
ATTACH;FMTTYPE=image/gif:https://fanhsdelano.org/wp-content/uploads/2023/12/filipino-logo-1-e1708977043304.gif
ORGANIZER;CN="FANHS-Delano%2C Ch 33":MAILTO:ebsrcch@gmail.com
END:VEVENT
BEGIN:VEVENT
DTSTART;TZID=UTC:20240821T190000
DTEND;TZID=UTC:20240821T200000
DTSTAMP:20260419T125416
CREATED:20240226T192346Z
LAST-MODIFIED:20240226T224147Z
UID:10000092-1724266800-1724270400@fanhsdelano.org
SUMMARY:FANHS-Delano Monthly Zoom Meeting
DESCRIPTION:
URL:https://fanhsdelano.org/event/fanhs-delano-monthly-zoom-meeting/2024-08-21/
LOCATION:Via Zoom\, CA\, United States
CATEGORIES:General
ATTACH;FMTTYPE=image/gif:https://fanhsdelano.org/wp-content/uploads/2023/12/filipino-logo-1-e1708977043304.gif
ORGANIZER;CN="FANHS-Delano%2C Ch 33":MAILTO:ebsrcch@gmail.com
END:VEVENT
BEGIN:VEVENT
DTSTART;TZID=UTC:20240717T190000
DTEND;TZID=UTC:20240717T200000
DTSTAMP:20260419T125416
CREATED:20240226T192346Z
LAST-MODIFIED:20240226T224147Z
UID:10000091-1721242800-1721246400@fanhsdelano.org
SUMMARY:FANHS-Delano Monthly Zoom Meeting
DESCRIPTION:
URL:https://fanhsdelano.org/event/fanhs-delano-monthly-zoom-meeting/2024-07-17/
LOCATION:Via Zoom\, CA\, United States
CATEGORIES:General
ATTACH;FMTTYPE=image/gif:https://fanhsdelano.org/wp-content/uploads/2023/12/filipino-logo-1-e1708977043304.gif
ORGANIZER;CN="FANHS-Delano%2C Ch 33":MAILTO:ebsrcch@gmail.com
END:VEVENT
BEGIN:VEVENT
DTSTART;TZID=UTC:20240619T190000
DTEND;TZID=UTC:20240619T200000
DTSTAMP:20260419T125416
CREATED:20240226T192346Z
LAST-MODIFIED:20240226T224147Z
UID:10000090-1718823600-1718827200@fanhsdelano.org
SUMMARY:FANHS-Delano Monthly Zoom Meeting
DESCRIPTION:
URL:https://fanhsdelano.org/event/fanhs-delano-monthly-zoom-meeting/2024-06-19/
LOCATION:Via Zoom\, CA\, United States
CATEGORIES:General
ATTACH;FMTTYPE=image/gif:https://fanhsdelano.org/wp-content/uploads/2023/12/filipino-logo-1-e1708977043304.gif
ORGANIZER;CN="FANHS-Delano%2C Ch 33":MAILTO:ebsrcch@gmail.com
END:VEVENT
BEGIN:VEVENT
DTSTART;TZID=UTC:20240515T190000
DTEND;TZID=UTC:20240515T200000
DTSTAMP:20260419T125416
CREATED:20240226T192346Z
LAST-MODIFIED:20240226T224147Z
UID:10000089-1715799600-1715803200@fanhsdelano.org
SUMMARY:FANHS-Delano Monthly Zoom Meeting
DESCRIPTION:
URL:https://fanhsdelano.org/event/fanhs-delano-monthly-zoom-meeting/2024-05-15/
LOCATION:Via Zoom\, CA\, United States
CATEGORIES:General
ATTACH;FMTTYPE=image/gif:https://fanhsdelano.org/wp-content/uploads/2023/12/filipino-logo-1-e1708977043304.gif
ORGANIZER;CN="FANHS-Delano%2C Ch 33":MAILTO:ebsrcch@gmail.com
END:VEVENT
BEGIN:VEVENT
DTSTART;TZID=UTC:20240417T190000
DTEND;TZID=UTC:20240417T200000
DTSTAMP:20260419T125416
CREATED:20240226T192346Z
LAST-MODIFIED:20240226T224147Z
UID:10000088-1713380400-1713384000@fanhsdelano.org
SUMMARY:FANHS-Delano Monthly Zoom Meeting
DESCRIPTION:
URL:https://fanhsdelano.org/event/fanhs-delano-monthly-zoom-meeting/2024-04-17/
LOCATION:Via Zoom\, CA\, United States
CATEGORIES:General
ATTACH;FMTTYPE=image/gif:https://fanhsdelano.org/wp-content/uploads/2023/12/filipino-logo-1-e1708977043304.gif
ORGANIZER;CN="FANHS-Delano%2C Ch 33":MAILTO:ebsrcch@gmail.com
END:VEVENT
BEGIN:VEVENT
DTSTART;TZID=UTC:20240320T190000
DTEND;TZID=UTC:20240320T200000
DTSTAMP:20260419T125416
CREATED:20240226T192346Z
LAST-MODIFIED:20240226T224147Z
UID:10000087-1710961200-1710964800@fanhsdelano.org
SUMMARY:FANHS-Delano Monthly Zoom Meeting
DESCRIPTION:
URL:https://fanhsdelano.org/event/fanhs-delano-monthly-zoom-meeting/2024-03-20/
LOCATION:Via Zoom\, CA\, United States
CATEGORIES:General
ATTACH;FMTTYPE=image/gif:https://fanhsdelano.org/wp-content/uploads/2023/12/filipino-logo-1-e1708977043304.gif
ORGANIZER;CN="FANHS-Delano%2C Ch 33":MAILTO:ebsrcch@gmail.com
END:VEVENT
END:VCALENDAR