
BEGIN:VCALENDAR
VERSION:2.0
PRODID:-//Filipino American National Historical Society Delano Chapter - ECPv6.15.20//NONSGML v1.0//EN
CALSCALE:GREGORIAN
METHOD:PUBLISH
X-WR-CALNAME:Filipino American National Historical Society Delano Chapter
X-ORIGINAL-URL:https://fanhsdelano.org
X-WR-CALDESC:Events for Filipino American National Historical Society Delano Chapter
REFRESH-INTERVAL;VALUE=DURATION:PT1H
X-Robots-Tag:noindex
X-PUBLISHED-TTL:PT1H
BEGIN:VTIMEZONE
TZID:UTC
BEGIN:STANDARD
TZOFFSETFROM:+0000
TZOFFSETTO:+0000
TZNAME:UTC
DTSTART:20230101T000000
END:STANDARD
END:VTIMEZONE
BEGIN:VEVENT
DTSTART;TZID=UTC:20250628T160000
DTEND;TZID=UTC:20250628T233000
DTSTAMP:20260420T045829
CREATED:20250115T163244Z
LAST-MODIFIED:20250318T232803Z
UID:10000269-1751126400-1751153400@fanhsdelano.org
SUMMARY:Pioneer Dinner & Fundraiser
DESCRIPTION:1. Mrs. Benilda Pader\, 2. Mrs. Lucena Barney\, 3. Mrs. Atanasia Escalona\, 4. Mrs. Patricia Luisin\, 5. Mrs. Feling Mostajo\, 6. Mrs. Lily Dulay\, 7. Mrs. Felisa Goze\, 8 Mrs. Jovita Jose\, 9. ?  \, 10. Mrs. Lorenza Bonita\, 11. Mrs. Filomena Fernandez\, 12. Mrs. Teling Cabanas\, 13. ?  14. ?  15. Mrs. Lucina Bernido\, 16. ?  17. ?  18. ?  19. Mrs. Ruperta Tomate\, 20. Theresa Tomate\, 21. ?  22. ?  23. Mrs. Emeteria Baltazar\, 24. ?  25. Melodi Eastman (Elsa Oria’s Daughter)\, 26. Elsa Oria “Singing Sweetheart of the Philippines”\, 27. Diana Fernandez\, 28. Mrs. Rosalia Dahilig\, 29. Morie Dahilig\, 30. Mrs. Andresa Dulay\, 31. Tessy Dulay\, 32. Melvin Agbayani\, 34. ?  35. ?  36. ?  37.?  38. Rosie Dahilig Munoz\, 39. ? 40. ?  41. Raymond Barney\, 42. Ted Fernandez\, 43. John Barney\, 44. ?  45. Joe Dahilig\, 46. ?  47. ?  48. ?  49. ?\nThe FANHS-Delano Pioneer Family Dinner and Fundraiser is open to all Filipino American families and their descendants who immigrated to the Delano area before 1965. Join us in rekindling old alliances from Richgrove\, Earlimart\, & Delano’s Westside – Dover Street\, Fremont School. Gathering together to honor our immigrant parents and raise funds helps FANHS keep our culture and history alive within our community and for younger generations. If you’re from the “old neighborhood” reserve your seat now and be prepared to share your stories. For more details\, contact Elina Barney Simon at (661) 606-9554\, or email NewsEvents@fanhsdelano.org. \n\nSeating is limited and by invitation. Invitations with details and payment instructions will be mailed between February and April. To request an invitation\, contact Elina Barney Simon as listed above.\n\nPrice is $50.00 per person. Children under the age of six are free.\nTables with seating for up to eight persons can be purchased in advance & paid in full for the discounted rate of $350.00 per table.\n\n\nMore details will be published here as they become available\, so check back often.
URL:https://fanhsdelano.org/event/pioneer-dinner-fundraiser/
LOCATION:Agbayani Village/Forty Acres\, 10701 Mettler Ave.\, Delano\, CA\, 93215\, United States
CATEGORIES:General
ATTACH;FMTTYPE=image/png:https://fanhsdelano.org/wp-content/uploads/2025/01/2025-Pioneer-Dinner-Invitation-Flyer1.png
ORGANIZER;CN="FANHS-Delano":MAILTO:NewsEvents@fanhsdelano.org.
END:VEVENT
BEGIN:VEVENT
DTSTART;TZID=UTC:20241019T170000
DTEND;TZID=UTC:20241019T190000
DTSTAMP:20260420T045829
CREATED:20241001T192843Z
LAST-MODIFIED:20241001T192843Z
UID:10000247-1729357200-1729364400@fanhsdelano.org
SUMMARY:Philippine Weekend - Singing Contest
DESCRIPTION:
URL:https://fanhsdelano.org/event/philippine-weekend-singing-contest/
LOCATION:Forty Acres Main Stage\, 30168 Garces Highway\, Delano\, CA\, 93215-4215\, United States
CATEGORIES:General
ORGANIZER;CN="Philippine Weekend Committee":MAILTO:philippineweekendinfo@gmail.com
END:VEVENT
BEGIN:VEVENT
DTSTART;TZID=UTC:20241019T100000
DTEND;TZID=UTC:20241019T120000
DTSTAMP:20260420T045829
CREATED:20241001T201857Z
LAST-MODIFIED:20241001T201857Z
UID:10000252-1729332000-1729339200@fanhsdelano.org
SUMMARY:Philippine Weekend Car Show
DESCRIPTION:
URL:https://fanhsdelano.org/event/philippine-weekend-car-show/
LOCATION:Agbayani Village/Forty Acres\, 10701 Mettler Ave.\, Delano\, CA\, 93215\, United States
CATEGORIES:General
ORGANIZER;CN="Philippine Weekend Committee":MAILTO:philippineweekendinfo@gmail.com
END:VEVENT
BEGIN:VEVENT
DTSTART;VALUE=DATE:20241019
DTEND;VALUE=DATE:20241021
DTSTAMP:20260420T045829
CREATED:20241001T203203Z
LAST-MODIFIED:20241001T203203Z
UID:10000254-1729296000-1729468799@fanhsdelano.org
SUMMARY:Philippine Weekend Barrio Fiesta
DESCRIPTION:
URL:https://fanhsdelano.org/event/philippine-weekend-barrio-fiesta/
LOCATION:Agbayani Village/Forty Acres\, 10701 Mettler Ave.\, Delano\, CA\, 93215\, United States
CATEGORIES:General
ORGANIZER;CN="Philippine Weekend Committee":MAILTO:philippineweekendinfo@gmail.com
END:VEVENT
BEGIN:VEVENT
DTSTART;VALUE=DATE:20241018
DTEND;VALUE=DATE:20241021
DTSTAMP:20260420T045829
CREATED:20240520T210214Z
LAST-MODIFIED:20240521T193914Z
UID:10000129-1729209600-1729468799@fanhsdelano.org
SUMMARY:50th Anniversary of the Agbayani Village & 2024 Philippine Weekend Festivities
DESCRIPTION:Please SAVE THE DATE\, October 18-20th\, 2024 Philippine Weekend Festivities and the 50th Anniversary of the Agbayani Village! Mabuhay! \nMore information to follow! For the latest updates\, follow Philippine Weekend on Facebook.\nContact: philippineweekendinfo@gmail.com
URL:https://fanhsdelano.org/event/50th-anniversary-of-the-agbayani-village-2024-philippine-weekend-festivities/
LOCATION:Agbayani Village/Forty Acres\, 10701 Mettler Ave.\, Delano\, CA\, 93215\, United States
CATEGORIES:General
ATTACH;FMTTYPE=image/jpeg:https://fanhsdelano.org/wp-content/uploads/2024/05/20241018-PI-Weekend.jpg
END:VEVENT
BEGIN:VEVENT
DTSTART;TZID=UTC:20241012T080000
DTEND;TZID=UTC:20241012T170000
DTSTAMP:20260420T045829
CREATED:20241001T194822Z
LAST-MODIFIED:20241001T194822Z
UID:10000249-1728720000-1728752400@fanhsdelano.org
SUMMARY:Mr. & Ms Philippine Weekend and Tiny Tots Pageant
DESCRIPTION:
URL:https://fanhsdelano.org/event/mr-ms-philippine-weekend-and-tiny-tots-pageant/
LOCATION:Agbayani Village/Forty Acres\, 10701 Mettler Ave.\, Delano\, CA\, 93215\, United States
CATEGORIES:General
ORGANIZER;CN="Philippine Weekend Committee":MAILTO:philippineweekendinfo@gmail.com
END:VEVENT
END:VCALENDAR