
BEGIN:VCALENDAR
VERSION:2.0
PRODID:-//Filipino American National Historical Society Delano Chapter - ECPv6.15.20//NONSGML v1.0//EN
CALSCALE:GREGORIAN
METHOD:PUBLISH
X-ORIGINAL-URL:https://fanhsdelano.org
X-WR-CALDESC:Events for Filipino American National Historical Society Delano Chapter
REFRESH-INTERVAL;VALUE=DURATION:PT1H
X-Robots-Tag:noindex
X-PUBLISHED-TTL:PT1H
BEGIN:VTIMEZONE
TZID:UTC
BEGIN:STANDARD
TZOFFSETFROM:+0000
TZOFFSETTO:+0000
TZNAME:UTC
DTSTART:20230101T000000
END:STANDARD
END:VTIMEZONE
BEGIN:VEVENT
DTSTART;TZID=UTC:20241101T130000
DTEND;TZID=UTC:20241101T170000
DTSTAMP:20260420T213706
CREATED:20240913T174353Z
LAST-MODIFIED:20240913T174621Z
UID:10000141-1730466000-1730480400@fanhsdelano.org
SUMMARY:Kings County's Asian Experiences - Part 2
DESCRIPTION:Celebrating the contributions of the Filipino\, Hmong\, Chinese\, and Japanese members of our community. \nOpen Fri\, Sat\, & Sun\n1:00 p.m. – 5:00 p.m. \nAdmission:\n$5 for adults\n$2 Children under 12\n$10 Family maximum \n​
URL:https://fanhsdelano.org/event/kings-countys-asian-experiences-part-2/2024-11-01/
LOCATION:Carnegie Museum of Kings County\, 109 E Eighth Street\, Hanford\, CA\, 93230
CATEGORIES:General
END:VEVENT
BEGIN:VEVENT
DTSTART;TZID=UTC:20241102T130000
DTEND;TZID=UTC:20241102T170000
DTSTAMP:20260420T213706
CREATED:20240913T175010Z
LAST-MODIFIED:20240913T175738Z
UID:10000218-1730552400-1730566800@fanhsdelano.org
SUMMARY:Kings County's Asian Experiences - Part 2
DESCRIPTION:Celebrating the contributions of the Filipino\, Hmong\, Chinese\, and Japanese members of our community. \nOpen Fri\, Sat\, & Sun\n1:00 p.m. – 5:00 p.m. \nAdmission:\n$5 for adults\n$2 Children under 12\n$10 Family maximum \n​
URL:https://fanhsdelano.org/event/kings-countys-asian-experiences-part-2-2/2024-11-02/
LOCATION:Carnegie Museum of Kings County\, 109 E Eighth Street\, Hanford\, CA\, 93230
CATEGORIES:General
END:VEVENT
BEGIN:VEVENT
DTSTART;TZID=UTC:20241103T130000
DTEND;TZID=UTC:20241103T170000
DTSTAMP:20260420T213706
CREATED:20240913T175301Z
LAST-MODIFIED:20240913T175923Z
UID:10000242-1730638800-1730653200@fanhsdelano.org
SUMMARY:Kings County's Asian Experiences - Part 2
DESCRIPTION:Celebrating the contributions of the Filipino\, Hmong\, Chinese\, and Japanese members of our community. \nOpen Fri\, Sat\, & Sun\n1:00 p.m. – 5:00 p.m. \nAdmission:\n$5 for adults\n$2 Children under 12\n$10 Family maximum \n​
URL:https://fanhsdelano.org/event/kings-countys-asian-experiences-part-2-3/2024-11-03/
LOCATION:Carnegie Museum of Kings County\, 109 E Eighth Street\, Hanford\, CA\, 93230
CATEGORIES:General
END:VEVENT
BEGIN:VEVENT
DTSTART;TZID=UTC:20241108T130000
DTEND;TZID=UTC:20241108T170000
DTSTAMP:20260420T213706
CREATED:20240913T174353Z
LAST-MODIFIED:20240913T174621Z
UID:10000142-1731070800-1731085200@fanhsdelano.org
SUMMARY:Kings County's Asian Experiences - Part 2
DESCRIPTION:Celebrating the contributions of the Filipino\, Hmong\, Chinese\, and Japanese members of our community. \nOpen Fri\, Sat\, & Sun\n1:00 p.m. – 5:00 p.m. \nAdmission:\n$5 for adults\n$2 Children under 12\n$10 Family maximum \n​
URL:https://fanhsdelano.org/event/kings-countys-asian-experiences-part-2/2024-11-08/
LOCATION:Carnegie Museum of Kings County\, 109 E Eighth Street\, Hanford\, CA\, 93230
CATEGORIES:General
END:VEVENT
BEGIN:VEVENT
DTSTART;TZID=UTC:20241109T130000
DTEND;TZID=UTC:20241109T170000
DTSTAMP:20260420T213706
CREATED:20240913T175010Z
LAST-MODIFIED:20240913T175738Z
UID:10000219-1731157200-1731171600@fanhsdelano.org
SUMMARY:Kings County's Asian Experiences - Part 2
DESCRIPTION:Celebrating the contributions of the Filipino\, Hmong\, Chinese\, and Japanese members of our community. \nOpen Fri\, Sat\, & Sun\n1:00 p.m. – 5:00 p.m. \nAdmission:\n$5 for adults\n$2 Children under 12\n$10 Family maximum \n​
URL:https://fanhsdelano.org/event/kings-countys-asian-experiences-part-2-2/2024-11-09/
LOCATION:Carnegie Museum of Kings County\, 109 E Eighth Street\, Hanford\, CA\, 93230
CATEGORIES:General
END:VEVENT
BEGIN:VEVENT
DTSTART;TZID=UTC:20241110T130000
DTEND;TZID=UTC:20241110T170000
DTSTAMP:20260420T213706
CREATED:20240913T175301Z
LAST-MODIFIED:20240913T175923Z
UID:10000243-1731243600-1731258000@fanhsdelano.org
SUMMARY:Kings County's Asian Experiences - Part 2
DESCRIPTION:Celebrating the contributions of the Filipino\, Hmong\, Chinese\, and Japanese members of our community. \nOpen Fri\, Sat\, & Sun\n1:00 p.m. – 5:00 p.m. \nAdmission:\n$5 for adults\n$2 Children under 12\n$10 Family maximum \n​
URL:https://fanhsdelano.org/event/kings-countys-asian-experiences-part-2-3/2024-11-10/
LOCATION:Carnegie Museum of Kings County\, 109 E Eighth Street\, Hanford\, CA\, 93230
CATEGORIES:General
END:VEVENT
BEGIN:VEVENT
DTSTART;TZID=UTC:20241115T130000
DTEND;TZID=UTC:20241115T170000
DTSTAMP:20260420T213706
CREATED:20240913T174353Z
LAST-MODIFIED:20240913T174621Z
UID:10000143-1731675600-1731690000@fanhsdelano.org
SUMMARY:Kings County's Asian Experiences - Part 2
DESCRIPTION:Celebrating the contributions of the Filipino\, Hmong\, Chinese\, and Japanese members of our community. \nOpen Fri\, Sat\, & Sun\n1:00 p.m. – 5:00 p.m. \nAdmission:\n$5 for adults\n$2 Children under 12\n$10 Family maximum \n​
URL:https://fanhsdelano.org/event/kings-countys-asian-experiences-part-2/2024-11-15/
LOCATION:Carnegie Museum of Kings County\, 109 E Eighth Street\, Hanford\, CA\, 93230
CATEGORIES:General
END:VEVENT
BEGIN:VEVENT
DTSTART;TZID=UTC:20241116T130000
DTEND;TZID=UTC:20241116T170000
DTSTAMP:20260420T213706
CREATED:20240913T175010Z
LAST-MODIFIED:20240913T175738Z
UID:10000220-1731762000-1731776400@fanhsdelano.org
SUMMARY:Kings County's Asian Experiences - Part 2
DESCRIPTION:Celebrating the contributions of the Filipino\, Hmong\, Chinese\, and Japanese members of our community. \nOpen Fri\, Sat\, & Sun\n1:00 p.m. – 5:00 p.m. \nAdmission:\n$5 for adults\n$2 Children under 12\n$10 Family maximum \n​
URL:https://fanhsdelano.org/event/kings-countys-asian-experiences-part-2-2/2024-11-16/
LOCATION:Carnegie Museum of Kings County\, 109 E Eighth Street\, Hanford\, CA\, 93230
CATEGORIES:General
END:VEVENT
BEGIN:VEVENT
DTSTART;TZID=UTC:20241117T130000
DTEND;TZID=UTC:20241117T170000
DTSTAMP:20260420T213706
CREATED:20240913T175301Z
LAST-MODIFIED:20240913T175923Z
UID:10000244-1731848400-1731862800@fanhsdelano.org
SUMMARY:Kings County's Asian Experiences - Part 2
DESCRIPTION:Celebrating the contributions of the Filipino\, Hmong\, Chinese\, and Japanese members of our community. \nOpen Fri\, Sat\, & Sun\n1:00 p.m. – 5:00 p.m. \nAdmission:\n$5 for adults\n$2 Children under 12\n$10 Family maximum \n​
URL:https://fanhsdelano.org/event/kings-countys-asian-experiences-part-2-3/2024-11-17/
LOCATION:Carnegie Museum of Kings County\, 109 E Eighth Street\, Hanford\, CA\, 93230
CATEGORIES:General
END:VEVENT
BEGIN:VEVENT
DTSTART;TZID=UTC:20241120T140000
DTEND;TZID=UTC:20241120T170000
DTSTAMP:20260420T213706
CREATED:20241107T230053Z
LAST-MODIFIED:20241107T230611Z
UID:10000256-1732111200-1732122000@fanhsdelano.org
SUMMARY:PACC-MDC Celebration for Labor Hall of Honor Inductees
DESCRIPTION:Kumusta\, and greetings! \nWe’re excited to invite you to a special Celebration Merienda to commemorate the induction of Larry Itliong\, Philip Vera Cruz\, and Peter Gines Velasco\, into the Labor Hall of Honor. \nAfter the induction ceremony concludes with the Department of Labor\, we will be hosting a separate Celebration Merienda for an afternoon of Filipino food\, coffee\, tea\, and community as we continue to celebrate these heroes who have shaped labor rights and social justice. \nDate: Wednesday\, November 20th\nTime: 2:00 PM – 5:00 PM\nLocation: TBA \nThis event is free to attend\, but please kindly RSVP so we can ensure there’s plenty of delicious food for everyone! You can register here.  \nWe look forward to celebrating with you. Salamat po! \nWarm regards\,\nKaelyne Yumul Wietelman\nFALA DC President\, Pinay Powerhouse Board Member
URL:https://fanhsdelano.org/event/pacc-mdc-celebration-for-labor-hall-of-honor-inductees/
LOCATION:TBD Washington\, DC\, Washington\, DC\, United States
CATEGORIES:National
END:VEVENT
BEGIN:VEVENT
DTSTART;TZID=UTC:20241120T190000
DTEND;TZID=UTC:20241120T200000
DTSTAMP:20260420T213706
CREATED:20240913T180033Z
LAST-MODIFIED:20240913T180034Z
UID:10000095-1732129200-1732132800@fanhsdelano.org
SUMMARY:FANHS-Delano Monthly Zoom Meeting
DESCRIPTION:
URL:https://fanhsdelano.org/event/fanhs-delano-monthly-zoom-meeting-2/2024-11-20/
LOCATION:Via Zoom\, CA\, United States
CATEGORIES:General
ATTACH;FMTTYPE=image/gif:https://fanhsdelano.org/wp-content/uploads/2023/12/filipino-logo-1-e1708977043304.gif
ORGANIZER;CN="FANHS-Delano%2C Ch 33":MAILTO:ebsrcch@gmail.com
END:VEVENT
BEGIN:VEVENT
DTSTART;TZID=UTC:20241122T130000
DTEND;TZID=UTC:20241122T170000
DTSTAMP:20260420T213706
CREATED:20240913T174353Z
LAST-MODIFIED:20240913T174621Z
UID:10000144-1732280400-1732294800@fanhsdelano.org
SUMMARY:Kings County's Asian Experiences - Part 2
DESCRIPTION:Celebrating the contributions of the Filipino\, Hmong\, Chinese\, and Japanese members of our community. \nOpen Fri\, Sat\, & Sun\n1:00 p.m. – 5:00 p.m. \nAdmission:\n$5 for adults\n$2 Children under 12\n$10 Family maximum \n​
URL:https://fanhsdelano.org/event/kings-countys-asian-experiences-part-2/2024-11-22/
LOCATION:Carnegie Museum of Kings County\, 109 E Eighth Street\, Hanford\, CA\, 93230
CATEGORIES:General
END:VEVENT
BEGIN:VEVENT
DTSTART;TZID=UTC:20241123T130000
DTEND;TZID=UTC:20241123T170000
DTSTAMP:20260420T213706
CREATED:20240913T175010Z
LAST-MODIFIED:20240913T175738Z
UID:10000221-1732366800-1732381200@fanhsdelano.org
SUMMARY:Kings County's Asian Experiences - Part 2
DESCRIPTION:Celebrating the contributions of the Filipino\, Hmong\, Chinese\, and Japanese members of our community. \nOpen Fri\, Sat\, & Sun\n1:00 p.m. – 5:00 p.m. \nAdmission:\n$5 for adults\n$2 Children under 12\n$10 Family maximum \n​
URL:https://fanhsdelano.org/event/kings-countys-asian-experiences-part-2-2/2024-11-23/
LOCATION:Carnegie Museum of Kings County\, 109 E Eighth Street\, Hanford\, CA\, 93230
CATEGORIES:General
END:VEVENT
BEGIN:VEVENT
DTSTART;TZID=UTC:20241124T130000
DTEND;TZID=UTC:20241124T170000
DTSTAMP:20260420T213706
CREATED:20240913T175301Z
LAST-MODIFIED:20240913T175923Z
UID:10000245-1732453200-1732467600@fanhsdelano.org
SUMMARY:Kings County's Asian Experiences - Part 2
DESCRIPTION:Celebrating the contributions of the Filipino\, Hmong\, Chinese\, and Japanese members of our community. \nOpen Fri\, Sat\, & Sun\n1:00 p.m. – 5:00 p.m. \nAdmission:\n$5 for adults\n$2 Children under 12\n$10 Family maximum \n​
URL:https://fanhsdelano.org/event/kings-countys-asian-experiences-part-2-3/2024-11-24/
LOCATION:Carnegie Museum of Kings County\, 109 E Eighth Street\, Hanford\, CA\, 93230
CATEGORIES:General
END:VEVENT
BEGIN:VEVENT
DTSTART;TZID=UTC:20241129T130000
DTEND;TZID=UTC:20241129T170000
DTSTAMP:20260420T213706
CREATED:20240913T174353Z
LAST-MODIFIED:20240913T174621Z
UID:10000145-1732885200-1732899600@fanhsdelano.org
SUMMARY:Kings County's Asian Experiences - Part 2
DESCRIPTION:Celebrating the contributions of the Filipino\, Hmong\, Chinese\, and Japanese members of our community. \nOpen Fri\, Sat\, & Sun\n1:00 p.m. – 5:00 p.m. \nAdmission:\n$5 for adults\n$2 Children under 12\n$10 Family maximum \n​
URL:https://fanhsdelano.org/event/kings-countys-asian-experiences-part-2/2024-11-29/
LOCATION:Carnegie Museum of Kings County\, 109 E Eighth Street\, Hanford\, CA\, 93230
CATEGORIES:General
END:VEVENT
BEGIN:VEVENT
DTSTART;TZID=UTC:20241130T130000
DTEND;TZID=UTC:20241130T170000
DTSTAMP:20260420T213706
CREATED:20240913T175010Z
LAST-MODIFIED:20240913T175738Z
UID:10000222-1732971600-1732986000@fanhsdelano.org
SUMMARY:Kings County's Asian Experiences - Part 2
DESCRIPTION:Celebrating the contributions of the Filipino\, Hmong\, Chinese\, and Japanese members of our community. \nOpen Fri\, Sat\, & Sun\n1:00 p.m. – 5:00 p.m. \nAdmission:\n$5 for adults\n$2 Children under 12\n$10 Family maximum \n​
URL:https://fanhsdelano.org/event/kings-countys-asian-experiences-part-2-2/2024-11-30/
LOCATION:Carnegie Museum of Kings County\, 109 E Eighth Street\, Hanford\, CA\, 93230
CATEGORIES:General
END:VEVENT
END:VCALENDAR