
BEGIN:VCALENDAR
VERSION:2.0
PRODID:-//Filipino American National Historical Society Delano Chapter - ECPv6.15.20//NONSGML v1.0//EN
CALSCALE:GREGORIAN
METHOD:PUBLISH
X-WR-CALNAME:Filipino American National Historical Society Delano Chapter
X-ORIGINAL-URL:https://fanhsdelano.org
X-WR-CALDESC:Events for Filipino American National Historical Society Delano Chapter
REFRESH-INTERVAL;VALUE=DURATION:PT1H
X-Robots-Tag:noindex
X-PUBLISHED-TTL:PT1H
BEGIN:VTIMEZONE
TZID:UTC
BEGIN:STANDARD
TZOFFSETFROM:+0000
TZOFFSETTO:+0000
TZNAME:UTC
DTSTART:20240101T000000
END:STANDARD
END:VTIMEZONE
BEGIN:VEVENT
DTSTART;TZID=UTC:20250820T190000
DTEND;TZID=UTC:20250820T200000
DTSTAMP:20260419T235554
CREATED:20250422T233637Z
LAST-MODIFIED:20250422T233638Z
UID:10000298-1755716400-1755720000@fanhsdelano.org
SUMMARY:FANHS-Delano Monthly Zoom Meeting
DESCRIPTION:
URL:https://fanhsdelano.org/event/fanhs-delano-monthly-zoom-meeting-2-2-2-2/2025-08-20/
LOCATION:Via Zoom\, CA\, United States
CATEGORIES:General
ATTACH;FMTTYPE=image/gif:https://fanhsdelano.org/wp-content/uploads/2023/12/filipino-logo-1-e1708977043304.gif
ORGANIZER;CN="FANHS-Delano%2C Ch 33":MAILTO:ebsrcch@gmail.com
END:VEVENT
BEGIN:VEVENT
DTSTART;TZID=UTC:20250906T080000
DTEND;TZID=UTC:20250906T200000
DTSTAMP:20260419T235554
CREATED:20250726T203059Z
LAST-MODIFIED:20250804T221150Z
UID:10000310-1757145600-1757188800@fanhsdelano.org
SUMMARY:Bold Step - 60th Anniversary of Delano Grape Strike
DESCRIPTION:
URL:https://fanhsdelano.org/event/bold-step-60th-anniversary-of-delano-grape-strike/
LOCATION:Robert F. Kennedy High School\, 1401 Heitt Avenue\, Delano\, CA\, 93215\, United States
ATTACH;FMTTYPE=image/png:https://fanhsdelano.org/wp-content/uploads/2025/07/Bold-Step-Strike-Image.png
ORGANIZER;CN="FANHS-Delano":MAILTO:NewsEvents@fanhsdelano.org.
END:VEVENT
BEGIN:VEVENT
DTSTART;TZID=UTC:20250917T190000
DTEND;TZID=UTC:20250917T200000
DTSTAMP:20260419T235554
CREATED:20250422T233637Z
LAST-MODIFIED:20250422T233638Z
UID:10000299-1758135600-1758139200@fanhsdelano.org
SUMMARY:FANHS-Delano Monthly Zoom Meeting
DESCRIPTION:
URL:https://fanhsdelano.org/event/fanhs-delano-monthly-zoom-meeting-2-2-2-2/2025-09-17/
LOCATION:Via Zoom\, CA\, United States
CATEGORIES:General
ATTACH;FMTTYPE=image/gif:https://fanhsdelano.org/wp-content/uploads/2023/12/filipino-logo-1-e1708977043304.gif
ORGANIZER;CN="FANHS-Delano%2C Ch 33":MAILTO:ebsrcch@gmail.com
END:VEVENT
BEGIN:VEVENT
DTSTART;TZID=UTC:20251005T110000
DTEND;TZID=UTC:20251005T160000
DTSTAMP:20260419T235554
CREATED:20250919T010033Z
LAST-MODIFIED:20250919T010033Z
UID:10000312-1759662000-1759680000@fanhsdelano.org
SUMMARY:Fall Festival & Car Show
DESCRIPTION:
URL:https://fanhsdelano.org/event/fall-festival-car-show/
LOCATION:Memorial Park\, 100 S. Lexington St.\, Delano\, CA\, 93215\, United States
CATEGORIES:General,National
ATTACH;FMTTYPE=image/jpeg:https://fanhsdelano.org/wp-content/uploads/2025/09/2025-Fall-Festival-Car-Show-Flyer.jpg
END:VEVENT
END:VCALENDAR