
BEGIN:VCALENDAR
VERSION:2.0
PRODID:-//Filipino American National Historical Society Delano Chapter - ECPv6.15.20//NONSGML v1.0//EN
CALSCALE:GREGORIAN
METHOD:PUBLISH
X-WR-CALNAME:Filipino American National Historical Society Delano Chapter
X-ORIGINAL-URL:https://fanhsdelano.org
X-WR-CALDESC:Events for Filipino American National Historical Society Delano Chapter
REFRESH-INTERVAL;VALUE=DURATION:PT1H
X-Robots-Tag:noindex
X-PUBLISHED-TTL:PT1H
BEGIN:VTIMEZONE
TZID:UTC
BEGIN:STANDARD
TZOFFSETFROM:+0000
TZOFFSETTO:+0000
TZNAME:UTC
DTSTART:20240101T000000
END:STANDARD
END:VTIMEZONE
BEGIN:VEVENT
DTSTART;TZID=UTC:20250112T100000
DTEND;TZID=UTC:20250112T150000
DTSTAMP:20260420T040348
CREATED:20250104T185642Z
LAST-MODIFIED:20250104T185758Z
UID:10000260-1736676000-1736694000@fanhsdelano.org
SUMMARY:Hope & Dignity: The Farmworker Movement Exhibition Ending Soon
DESCRIPTION:There is still time for you to visit a special exhibition Hope and Dignity: The Farmworker Movement at the Los Angeles United Methodist Museum of Social Justice\, 115 Paseo de La Plaza\, Los Angeles\, CA 90012. The exhibition runs through January 26\, 2025\, and features over 400 images of the digital Farmworker Movement Collection by photographers Emmon Clarke and John Kouns\, cartoons by Andy Zermeno\, plus photos of El Teatro Campesino’s early performances. \nDr. Kent Kirkton\, Martha Valier\, and Joseph Silva are the curators. An exhibition catalog can be downloaded from the museum’s webpage. The catalog includes QR codes for the museum website on the Farmworker Movement and for the more than 6\,000 photographs digitized with bilingual metadata at the California State University Northridge (CSUN) Library’s digital collection site.
URL:https://fanhsdelano.org/event/hope-dignity-the-farmworker-movement-exhibition-ending-soon/2025-01-12/
LOCATION:Museum of Social Justice\, 115 Paseo de La Plaza\, Los Angeles\, CA\, 90012\, United States
CATEGORIES:General
ATTACH;FMTTYPE=image/png:https://fanhsdelano.org/wp-content/uploads/2025/01/20250104-Museum-of-Social-Justice1.png
END:VEVENT
BEGIN:VEVENT
DTSTART;TZID=UTC:20250115T190000
DTEND;TZID=UTC:20250115T200000
DTSTAMP:20260420T040348
CREATED:20250115T164111Z
LAST-MODIFIED:20250115T164328Z
UID:10000096-1736967600-1736971200@fanhsdelano.org
SUMMARY:FANHS-Delano Monthly Zoom Meeting
DESCRIPTION:
URL:https://fanhsdelano.org/event/fanhs-delano-monthly-zoom-meeting-2-2/2025-01-15/
LOCATION:Via Zoom\, CA\, United States
CATEGORIES:General
ATTACH;FMTTYPE=image/gif:https://fanhsdelano.org/wp-content/uploads/2023/12/filipino-logo-1-e1708977043304.gif
ORGANIZER;CN="FANHS-Delano%2C Ch 33":MAILTO:ebsrcch@gmail.com
END:VEVENT
BEGIN:VEVENT
DTSTART;TZID=UTC:20250116T100000
DTEND;TZID=UTC:20250116T150000
DTSTAMP:20260420T040348
CREATED:20250104T185642Z
LAST-MODIFIED:20250104T185758Z
UID:10000261-1737021600-1737039600@fanhsdelano.org
SUMMARY:Hope & Dignity: The Farmworker Movement Exhibition Ending Soon
DESCRIPTION:There is still time for you to visit a special exhibition Hope and Dignity: The Farmworker Movement at the Los Angeles United Methodist Museum of Social Justice\, 115 Paseo de La Plaza\, Los Angeles\, CA 90012. The exhibition runs through January 26\, 2025\, and features over 400 images of the digital Farmworker Movement Collection by photographers Emmon Clarke and John Kouns\, cartoons by Andy Zermeno\, plus photos of El Teatro Campesino’s early performances. \nDr. Kent Kirkton\, Martha Valier\, and Joseph Silva are the curators. An exhibition catalog can be downloaded from the museum’s webpage. The catalog includes QR codes for the museum website on the Farmworker Movement and for the more than 6\,000 photographs digitized with bilingual metadata at the California State University Northridge (CSUN) Library’s digital collection site.
URL:https://fanhsdelano.org/event/hope-dignity-the-farmworker-movement-exhibition-ending-soon/2025-01-16/
LOCATION:Museum of Social Justice\, 115 Paseo de La Plaza\, Los Angeles\, CA\, 90012\, United States
CATEGORIES:General
ATTACH;FMTTYPE=image/png:https://fanhsdelano.org/wp-content/uploads/2025/01/20250104-Museum-of-Social-Justice1.png
END:VEVENT
BEGIN:VEVENT
DTSTART;TZID=UTC:20250117T100000
DTEND;TZID=UTC:20250117T150000
DTSTAMP:20260420T040348
CREATED:20250104T185642Z
LAST-MODIFIED:20250104T185758Z
UID:10000262-1737108000-1737126000@fanhsdelano.org
SUMMARY:Hope & Dignity: The Farmworker Movement Exhibition Ending Soon
DESCRIPTION:There is still time for you to visit a special exhibition Hope and Dignity: The Farmworker Movement at the Los Angeles United Methodist Museum of Social Justice\, 115 Paseo de La Plaza\, Los Angeles\, CA 90012. The exhibition runs through January 26\, 2025\, and features over 400 images of the digital Farmworker Movement Collection by photographers Emmon Clarke and John Kouns\, cartoons by Andy Zermeno\, plus photos of El Teatro Campesino’s early performances. \nDr. Kent Kirkton\, Martha Valier\, and Joseph Silva are the curators. An exhibition catalog can be downloaded from the museum’s webpage. The catalog includes QR codes for the museum website on the Farmworker Movement and for the more than 6\,000 photographs digitized with bilingual metadata at the California State University Northridge (CSUN) Library’s digital collection site.
URL:https://fanhsdelano.org/event/hope-dignity-the-farmworker-movement-exhibition-ending-soon/2025-01-17/
LOCATION:Museum of Social Justice\, 115 Paseo de La Plaza\, Los Angeles\, CA\, 90012\, United States
CATEGORIES:General
ATTACH;FMTTYPE=image/png:https://fanhsdelano.org/wp-content/uploads/2025/01/20250104-Museum-of-Social-Justice1.png
END:VEVENT
BEGIN:VEVENT
DTSTART;TZID=UTC:20250118T100000
DTEND;TZID=UTC:20250118T150000
DTSTAMP:20260420T040348
CREATED:20250104T185642Z
LAST-MODIFIED:20250104T185758Z
UID:10000263-1737194400-1737212400@fanhsdelano.org
SUMMARY:Hope & Dignity: The Farmworker Movement Exhibition Ending Soon
DESCRIPTION:There is still time for you to visit a special exhibition Hope and Dignity: The Farmworker Movement at the Los Angeles United Methodist Museum of Social Justice\, 115 Paseo de La Plaza\, Los Angeles\, CA 90012. The exhibition runs through January 26\, 2025\, and features over 400 images of the digital Farmworker Movement Collection by photographers Emmon Clarke and John Kouns\, cartoons by Andy Zermeno\, plus photos of El Teatro Campesino’s early performances. \nDr. Kent Kirkton\, Martha Valier\, and Joseph Silva are the curators. An exhibition catalog can be downloaded from the museum’s webpage. The catalog includes QR codes for the museum website on the Farmworker Movement and for the more than 6\,000 photographs digitized with bilingual metadata at the California State University Northridge (CSUN) Library’s digital collection site.
URL:https://fanhsdelano.org/event/hope-dignity-the-farmworker-movement-exhibition-ending-soon/2025-01-18/
LOCATION:Museum of Social Justice\, 115 Paseo de La Plaza\, Los Angeles\, CA\, 90012\, United States
CATEGORIES:General
ATTACH;FMTTYPE=image/png:https://fanhsdelano.org/wp-content/uploads/2025/01/20250104-Museum-of-Social-Justice1.png
END:VEVENT
BEGIN:VEVENT
DTSTART;TZID=UTC:20250119T100000
DTEND;TZID=UTC:20250119T150000
DTSTAMP:20260420T040348
CREATED:20250104T185642Z
LAST-MODIFIED:20250104T185758Z
UID:10000264-1737280800-1737298800@fanhsdelano.org
SUMMARY:Hope & Dignity: The Farmworker Movement Exhibition Ending Soon
DESCRIPTION:There is still time for you to visit a special exhibition Hope and Dignity: The Farmworker Movement at the Los Angeles United Methodist Museum of Social Justice\, 115 Paseo de La Plaza\, Los Angeles\, CA 90012. The exhibition runs through January 26\, 2025\, and features over 400 images of the digital Farmworker Movement Collection by photographers Emmon Clarke and John Kouns\, cartoons by Andy Zermeno\, plus photos of El Teatro Campesino’s early performances. \nDr. Kent Kirkton\, Martha Valier\, and Joseph Silva are the curators. An exhibition catalog can be downloaded from the museum’s webpage. The catalog includes QR codes for the museum website on the Farmworker Movement and for the more than 6\,000 photographs digitized with bilingual metadata at the California State University Northridge (CSUN) Library’s digital collection site.
URL:https://fanhsdelano.org/event/hope-dignity-the-farmworker-movement-exhibition-ending-soon/2025-01-19/
LOCATION:Museum of Social Justice\, 115 Paseo de La Plaza\, Los Angeles\, CA\, 90012\, United States
CATEGORIES:General
ATTACH;FMTTYPE=image/png:https://fanhsdelano.org/wp-content/uploads/2025/01/20250104-Museum-of-Social-Justice1.png
END:VEVENT
BEGIN:VEVENT
DTSTART;TZID=UTC:20250123T100000
DTEND;TZID=UTC:20250123T150000
DTSTAMP:20260420T040348
CREATED:20250104T185642Z
LAST-MODIFIED:20250104T185758Z
UID:10000265-1737626400-1737644400@fanhsdelano.org
SUMMARY:Hope & Dignity: The Farmworker Movement Exhibition Ending Soon
DESCRIPTION:There is still time for you to visit a special exhibition Hope and Dignity: The Farmworker Movement at the Los Angeles United Methodist Museum of Social Justice\, 115 Paseo de La Plaza\, Los Angeles\, CA 90012. The exhibition runs through January 26\, 2025\, and features over 400 images of the digital Farmworker Movement Collection by photographers Emmon Clarke and John Kouns\, cartoons by Andy Zermeno\, plus photos of El Teatro Campesino’s early performances. \nDr. Kent Kirkton\, Martha Valier\, and Joseph Silva are the curators. An exhibition catalog can be downloaded from the museum’s webpage. The catalog includes QR codes for the museum website on the Farmworker Movement and for the more than 6\,000 photographs digitized with bilingual metadata at the California State University Northridge (CSUN) Library’s digital collection site.
URL:https://fanhsdelano.org/event/hope-dignity-the-farmworker-movement-exhibition-ending-soon/2025-01-23/
LOCATION:Museum of Social Justice\, 115 Paseo de La Plaza\, Los Angeles\, CA\, 90012\, United States
CATEGORIES:General
ATTACH;FMTTYPE=image/png:https://fanhsdelano.org/wp-content/uploads/2025/01/20250104-Museum-of-Social-Justice1.png
END:VEVENT
BEGIN:VEVENT
DTSTART;TZID=UTC:20250124T100000
DTEND;TZID=UTC:20250124T150000
DTSTAMP:20260420T040348
CREATED:20250104T185642Z
LAST-MODIFIED:20250104T185758Z
UID:10000266-1737712800-1737730800@fanhsdelano.org
SUMMARY:Hope & Dignity: The Farmworker Movement Exhibition Ending Soon
DESCRIPTION:There is still time for you to visit a special exhibition Hope and Dignity: The Farmworker Movement at the Los Angeles United Methodist Museum of Social Justice\, 115 Paseo de La Plaza\, Los Angeles\, CA 90012. The exhibition runs through January 26\, 2025\, and features over 400 images of the digital Farmworker Movement Collection by photographers Emmon Clarke and John Kouns\, cartoons by Andy Zermeno\, plus photos of El Teatro Campesino’s early performances. \nDr. Kent Kirkton\, Martha Valier\, and Joseph Silva are the curators. An exhibition catalog can be downloaded from the museum’s webpage. The catalog includes QR codes for the museum website on the Farmworker Movement and for the more than 6\,000 photographs digitized with bilingual metadata at the California State University Northridge (CSUN) Library’s digital collection site.
URL:https://fanhsdelano.org/event/hope-dignity-the-farmworker-movement-exhibition-ending-soon/2025-01-24/
LOCATION:Museum of Social Justice\, 115 Paseo de La Plaza\, Los Angeles\, CA\, 90012\, United States
CATEGORIES:General
ATTACH;FMTTYPE=image/png:https://fanhsdelano.org/wp-content/uploads/2025/01/20250104-Museum-of-Social-Justice1.png
END:VEVENT
BEGIN:VEVENT
DTSTART;TZID=UTC:20250125T100000
DTEND;TZID=UTC:20250125T150000
DTSTAMP:20260420T040348
CREATED:20250104T185642Z
LAST-MODIFIED:20250104T185758Z
UID:10000267-1737799200-1737817200@fanhsdelano.org
SUMMARY:Hope & Dignity: The Farmworker Movement Exhibition Ending Soon
DESCRIPTION:There is still time for you to visit a special exhibition Hope and Dignity: The Farmworker Movement at the Los Angeles United Methodist Museum of Social Justice\, 115 Paseo de La Plaza\, Los Angeles\, CA 90012. The exhibition runs through January 26\, 2025\, and features over 400 images of the digital Farmworker Movement Collection by photographers Emmon Clarke and John Kouns\, cartoons by Andy Zermeno\, plus photos of El Teatro Campesino’s early performances. \nDr. Kent Kirkton\, Martha Valier\, and Joseph Silva are the curators. An exhibition catalog can be downloaded from the museum’s webpage. The catalog includes QR codes for the museum website on the Farmworker Movement and for the more than 6\,000 photographs digitized with bilingual metadata at the California State University Northridge (CSUN) Library’s digital collection site.
URL:https://fanhsdelano.org/event/hope-dignity-the-farmworker-movement-exhibition-ending-soon/2025-01-25/
LOCATION:Museum of Social Justice\, 115 Paseo de La Plaza\, Los Angeles\, CA\, 90012\, United States
CATEGORIES:General
ATTACH;FMTTYPE=image/png:https://fanhsdelano.org/wp-content/uploads/2025/01/20250104-Museum-of-Social-Justice1.png
END:VEVENT
BEGIN:VEVENT
DTSTART;TZID=UTC:20250126T100000
DTEND;TZID=UTC:20250126T150000
DTSTAMP:20260420T040348
CREATED:20250104T190520Z
LAST-MODIFIED:20250104T190521Z
UID:10000268-1737885600-1737903600@fanhsdelano.org
SUMMARY:Last Day to Visit Hope & Dignity: The Farmworker Movement Exhibition
DESCRIPTION:Today is the last day to visit a special exhibition Hope and Dignity: The Farmworker Movement at the Los Angeles United Methodist Museum of Social Justice\, 115 Paseo de La Plaza\, Los Angeles\, CA 90012. The exhibition features over 400 images of the digital Farmworker Movement Collection by photographers Emmon Clarke and John Kouns\, cartoons by Andy Zermeno\, plus photos of El Teatro Campesino’s early performances. \nDr. Kent Kirkton\, Martha Valier\, and Joseph Silva are the curators. An exhibition catalog can be downloaded from the museum’s webpage. The catalog includes QR codes for the museum website on the Farmworker Movement and for the more than 6\,000 photographs digitized with bilingual metadata at the California State University Northridge (CSUN) Library’s digital collection site.
URL:https://fanhsdelano.org/event/last-day-to-visit-hope-dignity-the-farmworker-movement-exhibition/
LOCATION:CA
ATTACH;FMTTYPE=image/png:https://fanhsdelano.org/wp-content/uploads/2025/01/20250104-Museum-of-Social-Justice1.png
ORGANIZER;CN="Museum of Social Justice":MAILTO:NFO@MUSEUMOFSOCIALJUSTICE.ORG
END:VEVENT
BEGIN:VEVENT
DTSTART;TZID=UTC:20250219T190000
DTEND;TZID=UTC:20250219T200000
DTSTAMP:20260420T040348
CREATED:20250115T164111Z
LAST-MODIFIED:20250115T164328Z
UID:10000270-1739991600-1739995200@fanhsdelano.org
SUMMARY:FANHS-Delano Monthly Zoom Meeting
DESCRIPTION:
URL:https://fanhsdelano.org/event/fanhs-delano-monthly-zoom-meeting-2-2/2025-02-19/
LOCATION:Via Zoom\, CA\, United States
CATEGORIES:General
ATTACH;FMTTYPE=image/gif:https://fanhsdelano.org/wp-content/uploads/2023/12/filipino-logo-1-e1708977043304.gif
ORGANIZER;CN="FANHS-Delano%2C Ch 33":MAILTO:ebsrcch@gmail.com
END:VEVENT
BEGIN:VEVENT
DTSTART;VALUE=DATE:20250307
DTEND;VALUE=DATE:20250308
DTSTAMP:20260420T040348
CREATED:20250305T013449Z
LAST-MODIFIED:20250305T014054Z
UID:10000281-1741305600-1741391999@fanhsdelano.org
SUMMARY:Larry the Musical Digital Pre-Sale Begins
DESCRIPTION:Presales for the digital download of the concept album for Larry the Musical: An American Journey begin Friday\, March 7 on Bandcamp! \nUpon purchasing the digital album\, buyers will receive one free song to download immediately. Presale purchasers will receive the full album on its official release date\, April 5\, 2025. \nPre-orders for the vinyl album will launch on March 17\, marking one year since the start of the musical’s theatrical premiere in 2024. \nBoth the digital and vinyl albums will be officially released on April 5\, 2025\, coinciding with the album release event at the Children’s Creativity Museum in San Francisco at 2:00 PM. \nThank you for your support and belief in the vision of Larry the Musical. Together\, we are turning this groundbreaking musical into an opportunity for community movement\, healing\, and celebration.
URL:https://fanhsdelano.org/event/larry-the-musical-digital-pre-sale/
LOCATION:CA
CATEGORIES:General
ATTACH;FMTTYPE=image/png:https://fanhsdelano.org/wp-content/uploads/2025/03/LtM_Album-email-graphic.png
END:VEVENT
BEGIN:VEVENT
DTSTART;VALUE=DATE:20250317
DTEND;VALUE=DATE:20250318
DTSTAMP:20260420T040348
CREATED:20250305T014215Z
LAST-MODIFIED:20250305T014215Z
UID:10000282-1742169600-1742255999@fanhsdelano.org
SUMMARY:Larry the Musical Vinyl Pre-Orders Begin
DESCRIPTION:Presales for the digital download of the concept album for Larry the Musical: An American Journey begin Friday\, March 7 on Bandcamp! \nUpon purchasing the digital album\, buyers will receive one free song to download immediately. Presale purchasers will receive the full album on its official release date\, April 5\, 2025. \nPre-orders for the vinyl album will launch on March 17\, marking one year since the start of the musical’s theatrical premiere in 2024. \nBoth the digital and vinyl albums will be officially released on April 5\, 2025\, coinciding with the album release event at the Children’s Creativity Museum in San Francisco at 2:00 PM. \nThank you for your support and belief in the vision of Larry the Musical. Together\, we are turning this groundbreaking musical into an opportunity for community movement\, healing\, and celebration.
URL:https://fanhsdelano.org/event/larry-the-musical-vinyl-pre-orders-begin/
LOCATION:CA
CATEGORIES:General
ATTACH;FMTTYPE=image/png:https://fanhsdelano.org/wp-content/uploads/2025/03/LtM_Album-email-graphic.png
END:VEVENT
BEGIN:VEVENT
DTSTART;TZID=UTC:20250326T190000
DTEND;TZID=UTC:20250326T200000
DTSTAMP:20260420T040348
CREATED:20250317T214951Z
LAST-MODIFIED:20250317T214952Z
UID:10000271-1743015600-1743019200@fanhsdelano.org
SUMMARY:FANHS-Delano Monthly Zoom Meeting
DESCRIPTION:
URL:https://fanhsdelano.org/event/fanhs-delano-monthly-zoom-meeting-2-2-2/
LOCATION:Via Zoom\, CA\, United States
CATEGORIES:General
ATTACH;FMTTYPE=image/gif:https://fanhsdelano.org/wp-content/uploads/2023/12/filipino-logo-1-e1708977043304.gif
ORGANIZER;CN="FANHS-Delano%2C Ch 33":MAILTO:ebsrcch@gmail.com
END:VEVENT
BEGIN:VEVENT
DTSTART;TZID=UTC:20250405T140000
DTEND;TZID=UTC:20250405T170000
DTSTAMP:20260420T040348
CREATED:20250305T015533Z
LAST-MODIFIED:20250305T015533Z
UID:10000283-1743861600-1743872400@fanhsdelano.org
SUMMARY:Larry the Musical Album Release Event
DESCRIPTION:EVENT DETAILS \n\nSaturday\, April 5\, 2025\nChildren’s Creativity Museum\, Creativity Theater\n221 Fourth Street\, San Francisco\, CA 94103\n2:00 PM – Program starts\n3:00 PM – Q & A\n3:c0 PM – Signing and vinyl album sales\nRSVP details to follow\n\nAFTER-PARTY \n\nVictory Hall & Parlor\n360 Ritch Street\, San Francisco\, CA 94107\n6:00 PM – 9:00 PM\nNo-host bar\nAlbum sales and signing continue\n\nPresales for the digital download of the concept album for Larry the Musical: An American Journey begin Friday\, March 7 on Bandcamp! \nUpon purchasing the digital album\, buyers will receive one free song to download immediately. Presale purchasers will receive the full album on its official release date\, April 5\, 2025. \nPre-orders for the vinyl album will launch on March 17\, marking one year since the start of the musical’s theatrical premiere in 2024. \nBoth the digital and vinyl albums will be officially released on April 5\, 2025\, coinciding with the album release event at the Children’s Creativity Museum in San Francisco at 2:00 PM. \nThank you for your support and belief in the vision of Larry the Musical. Together\, we are turning this groundbreaking musical into an opportunity for community movement\, healing\, and celebration.
URL:https://fanhsdelano.org/event/larry-the-musical-album-release-event/
LOCATION:Children’s Creativity Museum\, 221 Fourth Street\, San Francisco\, CA\, 94103\, United States
CATEGORIES:General
ATTACH;FMTTYPE=image/jpeg:https://fanhsdelano.org/wp-content/uploads/2025/03/20250405-Album-Release-Event.jpg
END:VEVENT
BEGIN:VEVENT
DTSTART;TZID=UTC:20250503T120000
DTEND;TZID=UTC:20250503T180000
DTSTAMP:20260420T040348
CREATED:20250422T232844Z
LAST-MODIFIED:20250422T232844Z
UID:10000294-1746273600-1746295200@fanhsdelano.org
SUMMARY:Kern County Oceania Culture & Arts Festival
DESCRIPTION:
URL:https://fanhsdelano.org/event/kern-county-oceania-culture-arts-festival/
LOCATION:California State University Bakersfield\, 9001 Stockdale Hwy\, Bakersfield\, CA\, 93311\, United States
CATEGORIES:General
ATTACH;FMTTYPE=image/png:https://fanhsdelano.org/wp-content/uploads/2025/04/CSUB-03-May-Festival.png
ORGANIZER;CN="Angelica Eke%2C Director Bakersfield Tatou Uma Pasefika Cultural Arts":MAILTO:aeke@tupasefika.com
END:VEVENT
BEGIN:VEVENT
DTSTART;TZID=UTC:20250521T190000
DTEND;TZID=UTC:20250521T200000
DTSTAMP:20260420T040348
CREATED:20250422T233637Z
LAST-MODIFIED:20250422T233638Z
UID:10000295-1747854000-1747857600@fanhsdelano.org
SUMMARY:FANHS-Delano Monthly Zoom Meeting
DESCRIPTION:
URL:https://fanhsdelano.org/event/fanhs-delano-monthly-zoom-meeting-2-2-2-2/2025-05-21/
LOCATION:Via Zoom\, CA\, United States
CATEGORIES:General
ATTACH;FMTTYPE=image/gif:https://fanhsdelano.org/wp-content/uploads/2023/12/filipino-logo-1-e1708977043304.gif
ORGANIZER;CN="FANHS-Delano%2C Ch 33":MAILTO:ebsrcch@gmail.com
END:VEVENT
BEGIN:VEVENT
DTSTART;TZID=UTC:20250618T190000
DTEND;TZID=UTC:20250618T200000
DTSTAMP:20260420T040348
CREATED:20250422T233637Z
LAST-MODIFIED:20250422T233638Z
UID:10000296-1750273200-1750276800@fanhsdelano.org
SUMMARY:FANHS-Delano Monthly Zoom Meeting
DESCRIPTION:
URL:https://fanhsdelano.org/event/fanhs-delano-monthly-zoom-meeting-2-2-2-2/2025-06-18/
LOCATION:Via Zoom\, CA\, United States
CATEGORIES:General
ATTACH;FMTTYPE=image/gif:https://fanhsdelano.org/wp-content/uploads/2023/12/filipino-logo-1-e1708977043304.gif
ORGANIZER;CN="FANHS-Delano%2C Ch 33":MAILTO:ebsrcch@gmail.com
END:VEVENT
END:VCALENDAR