
BEGIN:VCALENDAR
VERSION:2.0
PRODID:-//Filipino American National Historical Society Delano Chapter - ECPv6.15.20//NONSGML v1.0//EN
CALSCALE:GREGORIAN
METHOD:PUBLISH
X-WR-CALNAME:Filipino American National Historical Society Delano Chapter
X-ORIGINAL-URL:https://fanhsdelano.org
X-WR-CALDESC:Events for Filipino American National Historical Society Delano Chapter
REFRESH-INTERVAL;VALUE=DURATION:PT1H
X-Robots-Tag:noindex
X-PUBLISHED-TTL:PT1H
BEGIN:VTIMEZONE
TZID:UTC
BEGIN:STANDARD
TZOFFSETFROM:+0000
TZOFFSETTO:+0000
TZNAME:UTC
DTSTART:20240101T000000
END:STANDARD
END:VTIMEZONE
BEGIN:VEVENT
DTSTART;TZID=UTC:20250118T100000
DTEND;TZID=UTC:20250118T150000
DTSTAMP:20260419T221840
CREATED:20250104T185642Z
LAST-MODIFIED:20250104T185758Z
UID:10000263-1737194400-1737212400@fanhsdelano.org
SUMMARY:Hope & Dignity: The Farmworker Movement Exhibition Ending Soon
DESCRIPTION:There is still time for you to visit a special exhibition Hope and Dignity: The Farmworker Movement at the Los Angeles United Methodist Museum of Social Justice\, 115 Paseo de La Plaza\, Los Angeles\, CA 90012. The exhibition runs through January 26\, 2025\, and features over 400 images of the digital Farmworker Movement Collection by photographers Emmon Clarke and John Kouns\, cartoons by Andy Zermeno\, plus photos of El Teatro Campesino’s early performances. \nDr. Kent Kirkton\, Martha Valier\, and Joseph Silva are the curators. An exhibition catalog can be downloaded from the museum’s webpage. The catalog includes QR codes for the museum website on the Farmworker Movement and for the more than 6\,000 photographs digitized with bilingual metadata at the California State University Northridge (CSUN) Library’s digital collection site.
URL:https://fanhsdelano.org/event/hope-dignity-the-farmworker-movement-exhibition-ending-soon/2025-01-18/
LOCATION:Museum of Social Justice\, 115 Paseo de La Plaza\, Los Angeles\, CA\, 90012\, United States
CATEGORIES:General
ATTACH;FMTTYPE=image/png:https://fanhsdelano.org/wp-content/uploads/2025/01/20250104-Museum-of-Social-Justice1.png
END:VEVENT
END:VCALENDAR