
BEGIN:VCALENDAR
VERSION:2.0
PRODID:-//Filipino American National Historical Society Delano Chapter - ECPv6.15.20//NONSGML v1.0//EN
CALSCALE:GREGORIAN
METHOD:PUBLISH
X-WR-CALNAME:Filipino American National Historical Society Delano Chapter
X-ORIGINAL-URL:https://fanhsdelano.org
X-WR-CALDESC:Events for Filipino American National Historical Society Delano Chapter
REFRESH-INTERVAL;VALUE=DURATION:PT1H
X-Robots-Tag:noindex
X-PUBLISHED-TTL:PT1H
BEGIN:VTIMEZONE
TZID:UTC
BEGIN:STANDARD
TZOFFSETFROM:+0000
TZOFFSETTO:+0000
TZNAME:UTC
DTSTART:20230101T000000
END:STANDARD
END:VTIMEZONE
BEGIN:VEVENT
DTSTART;VALUE=DATE:20241001
DTEND;VALUE=DATE:20241002
DTSTAMP:20260420T034322
CREATED:20241001T195855Z
LAST-MODIFIED:20241001T195855Z
UID:10000250-1727740800-1727827199@fanhsdelano.org
SUMMARY:Philippine Weekend Golf Tournament Payment Due TODAY!
DESCRIPTION:
URL:https://fanhsdelano.org/event/philippine-weekend-golf-tournament-payment-due-today/
LOCATION:Delano Golf Course\, 104 S Lexington Street\, Delano\, CA\, 93215\, United States
CATEGORIES:General
ORGANIZER;CN="Philippine Weekend Committee":MAILTO:philippineweekendinfo@gmail.com
END:VEVENT
END:VCALENDAR